BEGIN:VCALENDAR
VERSION:2.0
PRODID:-//Park and Recreation - Prince Georges County MD - ECPv6.15.18//NONSGML v1.0//EN
CALSCALE:GREGORIAN
METHOD:PUBLISH
X-WR-CALNAME:Park and Recreation - Prince Georges County MD
X-ORIGINAL-URL:https://www.pgparks.com
X-WR-CALDESC:Events for Park and Recreation - Prince Georges County MD
REFRESH-INTERVAL;VALUE=DURATION:PT1H
X-Robots-Tag:noindex
X-PUBLISHED-TTL:PT1H
BEGIN:VTIMEZONE
TZID:America/New_York
BEGIN:DAYLIGHT
TZOFFSETFROM:-0500
TZOFFSETTO:-0400
TZNAME:EDT
DTSTART:20250309T070000
END:DAYLIGHT
BEGIN:STANDARD
TZOFFSETFROM:-0400
TZOFFSETTO:-0500
TZNAME:EST
DTSTART:20251102T060000
END:STANDARD
BEGIN:DAYLIGHT
TZOFFSETFROM:-0500
TZOFFSETTO:-0400
TZNAME:EDT
DTSTART:20260308T070000
END:DAYLIGHT
BEGIN:STANDARD
TZOFFSETFROM:-0400
TZOFFSETTO:-0500
TZNAME:EST
DTSTART:20261101T060000
END:STANDARD
BEGIN:DAYLIGHT
TZOFFSETFROM:-0500
TZOFFSETTO:-0400
TZNAME:EDT
DTSTART:20270314T070000
END:DAYLIGHT
BEGIN:STANDARD
TZOFFSETFROM:-0400
TZOFFSETTO:-0500
TZNAME:EST
DTSTART:20271107T060000
END:STANDARD
BEGIN:DAYLIGHT
TZOFFSETFROM:-0500
TZOFFSETTO:-0400
TZNAME:EDT
DTSTART:20280312T070000
END:DAYLIGHT
BEGIN:STANDARD
TZOFFSETFROM:-0400
TZOFFSETTO:-0500
TZNAME:EST
DTSTART:20281105T060000
END:STANDARD
END:VTIMEZONE
BEGIN:VEVENT
DTSTART;TZID=America/New_York:20261007T093000
DTEND;TZID=America/New_York:20261007T103000
DTSTAMP:20260422T174746
CREATED:20260225T205531Z
LAST-MODIFIED:20260402T135752Z
UID:10002166-1791365400-1791369000@www.pgparks.com
SUMMARY:Yoga
DESCRIPTION:Stretch toward your fitness goals! Learn basic yoga to improve health and flexibility through deep breathing and controlled stretching. Reduce stress\, get better sleep\, and build muscle stamina as you practice new or previously learned yoga skills. 
URL:https://www.pgparks.com/event_list/yoga-2/2026-10-07
CATEGORIES:Free,May is Fitness Month
ATTACH;FMTTYPE=image/jpeg:https://www.pgparks.com/wp-content/uploads/2026/02/Yoga-2026-600x400-1.jpg
END:VEVENT
BEGIN:VEVENT
DTSTART;TZID=America/New_York:20261014T093000
DTEND;TZID=America/New_York:20261014T103000
DTSTAMP:20260422T174746
CREATED:20260225T205531Z
LAST-MODIFIED:20260402T135752Z
UID:10002167-1791970200-1791973800@www.pgparks.com
SUMMARY:Yoga
DESCRIPTION:Stretch toward your fitness goals! Learn basic yoga to improve health and flexibility through deep breathing and controlled stretching. Reduce stress\, get better sleep\, and build muscle stamina as you practice new or previously learned yoga skills. 
URL:https://www.pgparks.com/event_list/yoga-2/2026-10-14
CATEGORIES:Free,May is Fitness Month
ATTACH;FMTTYPE=image/jpeg:https://www.pgparks.com/wp-content/uploads/2026/02/Yoga-2026-600x400-1.jpg
END:VEVENT
BEGIN:VEVENT
DTSTART;TZID=America/New_York:20261021T093000
DTEND;TZID=America/New_York:20261021T103000
DTSTAMP:20260422T174746
CREATED:20260225T205531Z
LAST-MODIFIED:20260402T135752Z
UID:10002168-1792575000-1792578600@www.pgparks.com
SUMMARY:Yoga
DESCRIPTION:Stretch toward your fitness goals! Learn basic yoga to improve health and flexibility through deep breathing and controlled stretching. Reduce stress\, get better sleep\, and build muscle stamina as you practice new or previously learned yoga skills. 
URL:https://www.pgparks.com/event_list/yoga-2/2026-10-21
CATEGORIES:Free,May is Fitness Month
ATTACH;FMTTYPE=image/jpeg:https://www.pgparks.com/wp-content/uploads/2026/02/Yoga-2026-600x400-1.jpg
END:VEVENT
BEGIN:VEVENT
DTSTART;TZID=America/New_York:20261028T093000
DTEND;TZID=America/New_York:20261028T103000
DTSTAMP:20260422T174746
CREATED:20260225T205531Z
LAST-MODIFIED:20260402T135752Z
UID:10002169-1793179800-1793183400@www.pgparks.com
SUMMARY:Yoga
DESCRIPTION:Stretch toward your fitness goals! Learn basic yoga to improve health and flexibility through deep breathing and controlled stretching. Reduce stress\, get better sleep\, and build muscle stamina as you practice new or previously learned yoga skills. 
URL:https://www.pgparks.com/event_list/yoga-2/2026-10-28
CATEGORIES:Free,May is Fitness Month
ATTACH;FMTTYPE=image/jpeg:https://www.pgparks.com/wp-content/uploads/2026/02/Yoga-2026-600x400-1.jpg
END:VEVENT
BEGIN:VEVENT
DTSTART;TZID=America/New_York:20261104T093000
DTEND;TZID=America/New_York:20261104T103000
DTSTAMP:20260422T174746
CREATED:20260225T205531Z
LAST-MODIFIED:20260402T135752Z
UID:10002170-1793784600-1793788200@www.pgparks.com
SUMMARY:Yoga
DESCRIPTION:Stretch toward your fitness goals! Learn basic yoga to improve health and flexibility through deep breathing and controlled stretching. Reduce stress\, get better sleep\, and build muscle stamina as you practice new or previously learned yoga skills. 
URL:https://www.pgparks.com/event_list/yoga-2/2026-11-04
CATEGORIES:Free,May is Fitness Month
ATTACH;FMTTYPE=image/jpeg:https://www.pgparks.com/wp-content/uploads/2026/02/Yoga-2026-600x400-1.jpg
END:VEVENT
BEGIN:VEVENT
DTSTART;TZID=America/New_York:20261111T093000
DTEND;TZID=America/New_York:20261111T103000
DTSTAMP:20260422T174746
CREATED:20260225T205531Z
LAST-MODIFIED:20260402T135752Z
UID:10002171-1794389400-1794393000@www.pgparks.com
SUMMARY:Yoga
DESCRIPTION:Stretch toward your fitness goals! Learn basic yoga to improve health and flexibility through deep breathing and controlled stretching. Reduce stress\, get better sleep\, and build muscle stamina as you practice new or previously learned yoga skills. 
URL:https://www.pgparks.com/event_list/yoga-2/2026-11-11
CATEGORIES:Free,May is Fitness Month
ATTACH;FMTTYPE=image/jpeg:https://www.pgparks.com/wp-content/uploads/2026/02/Yoga-2026-600x400-1.jpg
END:VEVENT
BEGIN:VEVENT
DTSTART;TZID=America/New_York:20261118T093000
DTEND;TZID=America/New_York:20261118T103000
DTSTAMP:20260422T174746
CREATED:20260225T205531Z
LAST-MODIFIED:20260402T135752Z
UID:10002172-1794994200-1794997800@www.pgparks.com
SUMMARY:Yoga
DESCRIPTION:Stretch toward your fitness goals! Learn basic yoga to improve health and flexibility through deep breathing and controlled stretching. Reduce stress\, get better sleep\, and build muscle stamina as you practice new or previously learned yoga skills. 
URL:https://www.pgparks.com/event_list/yoga-2/2026-11-18
CATEGORIES:Free,May is Fitness Month
ATTACH;FMTTYPE=image/jpeg:https://www.pgparks.com/wp-content/uploads/2026/02/Yoga-2026-600x400-1.jpg
END:VEVENT
BEGIN:VEVENT
DTSTART;TZID=America/New_York:20261125T093000
DTEND;TZID=America/New_York:20261125T103000
DTSTAMP:20260422T174746
CREATED:20260225T205531Z
LAST-MODIFIED:20260402T135752Z
UID:10002173-1795599000-1795602600@www.pgparks.com
SUMMARY:Yoga
DESCRIPTION:Stretch toward your fitness goals! Learn basic yoga to improve health and flexibility through deep breathing and controlled stretching. Reduce stress\, get better sleep\, and build muscle stamina as you practice new or previously learned yoga skills. 
URL:https://www.pgparks.com/event_list/yoga-2/2026-11-25
CATEGORIES:Free,May is Fitness Month
ATTACH;FMTTYPE=image/jpeg:https://www.pgparks.com/wp-content/uploads/2026/02/Yoga-2026-600x400-1.jpg
END:VEVENT
BEGIN:VEVENT
DTSTART;TZID=America/New_York:20261202T093000
DTEND;TZID=America/New_York:20261202T103000
DTSTAMP:20260422T174746
CREATED:20260225T205531Z
LAST-MODIFIED:20260402T135752Z
UID:10002174-1796203800-1796207400@www.pgparks.com
SUMMARY:Yoga
DESCRIPTION:Stretch toward your fitness goals! Learn basic yoga to improve health and flexibility through deep breathing and controlled stretching. Reduce stress\, get better sleep\, and build muscle stamina as you practice new or previously learned yoga skills. 
URL:https://www.pgparks.com/event_list/yoga-2/2026-12-02
CATEGORIES:Free,May is Fitness Month
ATTACH;FMTTYPE=image/jpeg:https://www.pgparks.com/wp-content/uploads/2026/02/Yoga-2026-600x400-1.jpg
END:VEVENT
BEGIN:VEVENT
DTSTART;TZID=America/New_York:20261209T093000
DTEND;TZID=America/New_York:20261209T103000
DTSTAMP:20260422T174746
CREATED:20260225T205531Z
LAST-MODIFIED:20260402T135752Z
UID:10002175-1796808600-1796812200@www.pgparks.com
SUMMARY:Yoga
DESCRIPTION:Stretch toward your fitness goals! Learn basic yoga to improve health and flexibility through deep breathing and controlled stretching. Reduce stress\, get better sleep\, and build muscle stamina as you practice new or previously learned yoga skills. 
URL:https://www.pgparks.com/event_list/yoga-2/2026-12-09
CATEGORIES:Free,May is Fitness Month
ATTACH;FMTTYPE=image/jpeg:https://www.pgparks.com/wp-content/uploads/2026/02/Yoga-2026-600x400-1.jpg
END:VEVENT
BEGIN:VEVENT
DTSTART;TZID=America/New_York:20261216T093000
DTEND;TZID=America/New_York:20261216T103000
DTSTAMP:20260422T174746
CREATED:20260225T205531Z
LAST-MODIFIED:20260402T135752Z
UID:10002176-1797413400-1797417000@www.pgparks.com
SUMMARY:Yoga
DESCRIPTION:Stretch toward your fitness goals! Learn basic yoga to improve health and flexibility through deep breathing and controlled stretching. Reduce stress\, get better sleep\, and build muscle stamina as you practice new or previously learned yoga skills. 
URL:https://www.pgparks.com/event_list/yoga-2/2026-12-16
CATEGORIES:Free,May is Fitness Month
ATTACH;FMTTYPE=image/jpeg:https://www.pgparks.com/wp-content/uploads/2026/02/Yoga-2026-600x400-1.jpg
END:VEVENT
BEGIN:VEVENT
DTSTART;TZID=America/New_York:20261223T093000
DTEND;TZID=America/New_York:20261223T103000
DTSTAMP:20260422T174746
CREATED:20260225T205531Z
LAST-MODIFIED:20260402T135752Z
UID:10002177-1798018200-1798021800@www.pgparks.com
SUMMARY:Yoga
DESCRIPTION:Stretch toward your fitness goals! Learn basic yoga to improve health and flexibility through deep breathing and controlled stretching. Reduce stress\, get better sleep\, and build muscle stamina as you practice new or previously learned yoga skills. 
URL:https://www.pgparks.com/event_list/yoga-2/2026-12-23
CATEGORIES:Free,May is Fitness Month
ATTACH;FMTTYPE=image/jpeg:https://www.pgparks.com/wp-content/uploads/2026/02/Yoga-2026-600x400-1.jpg
END:VEVENT
BEGIN:VEVENT
DTSTART;TZID=America/New_York:20261230T093000
DTEND;TZID=America/New_York:20261230T103000
DTSTAMP:20260422T174746
CREATED:20260225T205531Z
LAST-MODIFIED:20260402T135752Z
UID:10002178-1798623000-1798626600@www.pgparks.com
SUMMARY:Yoga
DESCRIPTION:Stretch toward your fitness goals! Learn basic yoga to improve health and flexibility through deep breathing and controlled stretching. Reduce stress\, get better sleep\, and build muscle stamina as you practice new or previously learned yoga skills. 
URL:https://www.pgparks.com/event_list/yoga-2/2026-12-30
CATEGORIES:Free,May is Fitness Month
ATTACH;FMTTYPE=image/jpeg:https://www.pgparks.com/wp-content/uploads/2026/02/Yoga-2026-600x400-1.jpg
END:VEVENT
BEGIN:VEVENT
DTSTART;TZID=America/New_York:20270106T093000
DTEND;TZID=America/New_York:20270106T103000
DTSTAMP:20260422T174746
CREATED:20260225T205531Z
LAST-MODIFIED:20260402T135752Z
UID:10002179-1799227800-1799231400@www.pgparks.com
SUMMARY:Yoga
DESCRIPTION:Stretch toward your fitness goals! Learn basic yoga to improve health and flexibility through deep breathing and controlled stretching. Reduce stress\, get better sleep\, and build muscle stamina as you practice new or previously learned yoga skills. 
URL:https://www.pgparks.com/event_list/yoga-2/2027-01-06
CATEGORIES:Free,May is Fitness Month
ATTACH;FMTTYPE=image/jpeg:https://www.pgparks.com/wp-content/uploads/2026/02/Yoga-2026-600x400-1.jpg
END:VEVENT
BEGIN:VEVENT
DTSTART;TZID=America/New_York:20270113T093000
DTEND;TZID=America/New_York:20270113T103000
DTSTAMP:20260422T174746
CREATED:20260225T205531Z
LAST-MODIFIED:20260402T135752Z
UID:10002180-1799832600-1799836200@www.pgparks.com
SUMMARY:Yoga
DESCRIPTION:Stretch toward your fitness goals! Learn basic yoga to improve health and flexibility through deep breathing and controlled stretching. Reduce stress\, get better sleep\, and build muscle stamina as you practice new or previously learned yoga skills. 
URL:https://www.pgparks.com/event_list/yoga-2/2027-01-13
CATEGORIES:Free,May is Fitness Month
ATTACH;FMTTYPE=image/jpeg:https://www.pgparks.com/wp-content/uploads/2026/02/Yoga-2026-600x400-1.jpg
END:VEVENT
BEGIN:VEVENT
DTSTART;TZID=America/New_York:20270120T093000
DTEND;TZID=America/New_York:20270120T103000
DTSTAMP:20260422T174746
CREATED:20260225T205531Z
LAST-MODIFIED:20260402T135752Z
UID:10002181-1800437400-1800441000@www.pgparks.com
SUMMARY:Yoga
DESCRIPTION:Stretch toward your fitness goals! Learn basic yoga to improve health and flexibility through deep breathing and controlled stretching. Reduce stress\, get better sleep\, and build muscle stamina as you practice new or previously learned yoga skills. 
URL:https://www.pgparks.com/event_list/yoga-2/2027-01-20
CATEGORIES:Free,May is Fitness Month
ATTACH;FMTTYPE=image/jpeg:https://www.pgparks.com/wp-content/uploads/2026/02/Yoga-2026-600x400-1.jpg
END:VEVENT
BEGIN:VEVENT
DTSTART;TZID=America/New_York:20270127T093000
DTEND;TZID=America/New_York:20270127T103000
DTSTAMP:20260422T174746
CREATED:20260225T205531Z
LAST-MODIFIED:20260402T135752Z
UID:10002182-1801042200-1801045800@www.pgparks.com
SUMMARY:Yoga
DESCRIPTION:Stretch toward your fitness goals! Learn basic yoga to improve health and flexibility through deep breathing and controlled stretching. Reduce stress\, get better sleep\, and build muscle stamina as you practice new or previously learned yoga skills. 
URL:https://www.pgparks.com/event_list/yoga-2/2027-01-27
CATEGORIES:Free,May is Fitness Month
ATTACH;FMTTYPE=image/jpeg:https://www.pgparks.com/wp-content/uploads/2026/02/Yoga-2026-600x400-1.jpg
END:VEVENT
BEGIN:VEVENT
DTSTART;TZID=America/New_York:20270203T093000
DTEND;TZID=America/New_York:20270203T103000
DTSTAMP:20260422T174746
CREATED:20260225T205531Z
LAST-MODIFIED:20260402T135752Z
UID:10002183-1801647000-1801650600@www.pgparks.com
SUMMARY:Yoga
DESCRIPTION:Stretch toward your fitness goals! Learn basic yoga to improve health and flexibility through deep breathing and controlled stretching. Reduce stress\, get better sleep\, and build muscle stamina as you practice new or previously learned yoga skills. 
URL:https://www.pgparks.com/event_list/yoga-2/2027-02-03
CATEGORIES:Free,May is Fitness Month
ATTACH;FMTTYPE=image/jpeg:https://www.pgparks.com/wp-content/uploads/2026/02/Yoga-2026-600x400-1.jpg
END:VEVENT
BEGIN:VEVENT
DTSTART;TZID=America/New_York:20270210T093000
DTEND;TZID=America/New_York:20270210T103000
DTSTAMP:20260422T174746
CREATED:20260225T205531Z
LAST-MODIFIED:20260402T135752Z
UID:10002184-1802251800-1802255400@www.pgparks.com
SUMMARY:Yoga
DESCRIPTION:Stretch toward your fitness goals! Learn basic yoga to improve health and flexibility through deep breathing and controlled stretching. Reduce stress\, get better sleep\, and build muscle stamina as you practice new or previously learned yoga skills. 
URL:https://www.pgparks.com/event_list/yoga-2/2027-02-10
CATEGORIES:Free,May is Fitness Month
ATTACH;FMTTYPE=image/jpeg:https://www.pgparks.com/wp-content/uploads/2026/02/Yoga-2026-600x400-1.jpg
END:VEVENT
BEGIN:VEVENT
DTSTART;TZID=America/New_York:20270217T093000
DTEND;TZID=America/New_York:20270217T103000
DTSTAMP:20260422T174746
CREATED:20260225T205531Z
LAST-MODIFIED:20260402T135752Z
UID:10002185-1802856600-1802860200@www.pgparks.com
SUMMARY:Yoga
DESCRIPTION:Stretch toward your fitness goals! Learn basic yoga to improve health and flexibility through deep breathing and controlled stretching. Reduce stress\, get better sleep\, and build muscle stamina as you practice new or previously learned yoga skills. 
URL:https://www.pgparks.com/event_list/yoga-2/2027-02-17
CATEGORIES:Free,May is Fitness Month
ATTACH;FMTTYPE=image/jpeg:https://www.pgparks.com/wp-content/uploads/2026/02/Yoga-2026-600x400-1.jpg
END:VEVENT
BEGIN:VEVENT
DTSTART;TZID=America/New_York:20270224T093000
DTEND;TZID=America/New_York:20270224T103000
DTSTAMP:20260422T174746
CREATED:20260225T205531Z
LAST-MODIFIED:20260402T135752Z
UID:10002186-1803461400-1803465000@www.pgparks.com
SUMMARY:Yoga
DESCRIPTION:Stretch toward your fitness goals! Learn basic yoga to improve health and flexibility through deep breathing and controlled stretching. Reduce stress\, get better sleep\, and build muscle stamina as you practice new or previously learned yoga skills. 
URL:https://www.pgparks.com/event_list/yoga-2/2027-02-24
CATEGORIES:Free,May is Fitness Month
ATTACH;FMTTYPE=image/jpeg:https://www.pgparks.com/wp-content/uploads/2026/02/Yoga-2026-600x400-1.jpg
END:VEVENT
BEGIN:VEVENT
DTSTART;TZID=America/New_York:20270303T093000
DTEND;TZID=America/New_York:20270303T103000
DTSTAMP:20260422T174746
CREATED:20260225T205531Z
LAST-MODIFIED:20260402T135752Z
UID:10002187-1804066200-1804069800@www.pgparks.com
SUMMARY:Yoga
DESCRIPTION:Stretch toward your fitness goals! Learn basic yoga to improve health and flexibility through deep breathing and controlled stretching. Reduce stress\, get better sleep\, and build muscle stamina as you practice new or previously learned yoga skills. 
URL:https://www.pgparks.com/event_list/yoga-2/2027-03-03
CATEGORIES:Free,May is Fitness Month
ATTACH;FMTTYPE=image/jpeg:https://www.pgparks.com/wp-content/uploads/2026/02/Yoga-2026-600x400-1.jpg
END:VEVENT
BEGIN:VEVENT
DTSTART;TZID=America/New_York:20270310T093000
DTEND;TZID=America/New_York:20270310T103000
DTSTAMP:20260422T174746
CREATED:20260225T205531Z
LAST-MODIFIED:20260402T135752Z
UID:10002188-1804671000-1804674600@www.pgparks.com
SUMMARY:Yoga
DESCRIPTION:Stretch toward your fitness goals! Learn basic yoga to improve health and flexibility through deep breathing and controlled stretching. Reduce stress\, get better sleep\, and build muscle stamina as you practice new or previously learned yoga skills. 
URL:https://www.pgparks.com/event_list/yoga-2/2027-03-10
CATEGORIES:Free,May is Fitness Month
ATTACH;FMTTYPE=image/jpeg:https://www.pgparks.com/wp-content/uploads/2026/02/Yoga-2026-600x400-1.jpg
END:VEVENT
BEGIN:VEVENT
DTSTART;TZID=America/New_York:20270317T093000
DTEND;TZID=America/New_York:20270317T103000
DTSTAMP:20260422T174746
CREATED:20260225T205531Z
LAST-MODIFIED:20260402T135752Z
UID:10002189-1805275800-1805279400@www.pgparks.com
SUMMARY:Yoga
DESCRIPTION:Stretch toward your fitness goals! Learn basic yoga to improve health and flexibility through deep breathing and controlled stretching. Reduce stress\, get better sleep\, and build muscle stamina as you practice new or previously learned yoga skills. 
URL:https://www.pgparks.com/event_list/yoga-2/2027-03-17
CATEGORIES:Free,May is Fitness Month
ATTACH;FMTTYPE=image/jpeg:https://www.pgparks.com/wp-content/uploads/2026/02/Yoga-2026-600x400-1.jpg
END:VEVENT
BEGIN:VEVENT
DTSTART;TZID=America/New_York:20270324T093000
DTEND;TZID=America/New_York:20270324T103000
DTSTAMP:20260422T174746
CREATED:20260225T205531Z
LAST-MODIFIED:20260402T135752Z
UID:10002190-1805880600-1805884200@www.pgparks.com
SUMMARY:Yoga
DESCRIPTION:Stretch toward your fitness goals! Learn basic yoga to improve health and flexibility through deep breathing and controlled stretching. Reduce stress\, get better sleep\, and build muscle stamina as you practice new or previously learned yoga skills. 
URL:https://www.pgparks.com/event_list/yoga-2/2027-03-24
CATEGORIES:Free,May is Fitness Month
ATTACH;FMTTYPE=image/jpeg:https://www.pgparks.com/wp-content/uploads/2026/02/Yoga-2026-600x400-1.jpg
END:VEVENT
BEGIN:VEVENT
DTSTART;TZID=America/New_York:20270331T093000
DTEND;TZID=America/New_York:20270331T103000
DTSTAMP:20260422T174746
CREATED:20260225T205531Z
LAST-MODIFIED:20260402T135752Z
UID:10002191-1806485400-1806489000@www.pgparks.com
SUMMARY:Yoga
DESCRIPTION:Stretch toward your fitness goals! Learn basic yoga to improve health and flexibility through deep breathing and controlled stretching. Reduce stress\, get better sleep\, and build muscle stamina as you practice new or previously learned yoga skills. 
URL:https://www.pgparks.com/event_list/yoga-2/2027-03-31
CATEGORIES:Free,May is Fitness Month
ATTACH;FMTTYPE=image/jpeg:https://www.pgparks.com/wp-content/uploads/2026/02/Yoga-2026-600x400-1.jpg
END:VEVENT
BEGIN:VEVENT
DTSTART;TZID=America/New_York:20270407T093000
DTEND;TZID=America/New_York:20270407T103000
DTSTAMP:20260422T174746
CREATED:20260225T205531Z
LAST-MODIFIED:20260402T135752Z
UID:10002192-1807090200-1807093800@www.pgparks.com
SUMMARY:Yoga
DESCRIPTION:Stretch toward your fitness goals! Learn basic yoga to improve health and flexibility through deep breathing and controlled stretching. Reduce stress\, get better sleep\, and build muscle stamina as you practice new or previously learned yoga skills. 
URL:https://www.pgparks.com/event_list/yoga-2/2027-04-07
CATEGORIES:Free,May is Fitness Month
ATTACH;FMTTYPE=image/jpeg:https://www.pgparks.com/wp-content/uploads/2026/02/Yoga-2026-600x400-1.jpg
END:VEVENT
BEGIN:VEVENT
DTSTART;TZID=America/New_York:20270414T093000
DTEND;TZID=America/New_York:20270414T103000
DTSTAMP:20260422T174746
CREATED:20260225T205531Z
LAST-MODIFIED:20260402T135752Z
UID:10002193-1807695000-1807698600@www.pgparks.com
SUMMARY:Yoga
DESCRIPTION:Stretch toward your fitness goals! Learn basic yoga to improve health and flexibility through deep breathing and controlled stretching. Reduce stress\, get better sleep\, and build muscle stamina as you practice new or previously learned yoga skills. 
URL:https://www.pgparks.com/event_list/yoga-2/2027-04-14
CATEGORIES:Free,May is Fitness Month
ATTACH;FMTTYPE=image/jpeg:https://www.pgparks.com/wp-content/uploads/2026/02/Yoga-2026-600x400-1.jpg
END:VEVENT
BEGIN:VEVENT
DTSTART;TZID=America/New_York:20270421T093000
DTEND;TZID=America/New_York:20270421T103000
DTSTAMP:20260422T174746
CREATED:20260225T205531Z
LAST-MODIFIED:20260402T135752Z
UID:10002194-1808299800-1808303400@www.pgparks.com
SUMMARY:Yoga
DESCRIPTION:Stretch toward your fitness goals! Learn basic yoga to improve health and flexibility through deep breathing and controlled stretching. Reduce stress\, get better sleep\, and build muscle stamina as you practice new or previously learned yoga skills. 
URL:https://www.pgparks.com/event_list/yoga-2/2027-04-21
CATEGORIES:Free,May is Fitness Month
ATTACH;FMTTYPE=image/jpeg:https://www.pgparks.com/wp-content/uploads/2026/02/Yoga-2026-600x400-1.jpg
END:VEVENT
BEGIN:VEVENT
DTSTART;TZID=America/New_York:20270428T093000
DTEND;TZID=America/New_York:20270428T103000
DTSTAMP:20260422T174746
CREATED:20260225T205531Z
LAST-MODIFIED:20260402T135752Z
UID:10002195-1808904600-1808908200@www.pgparks.com
SUMMARY:Yoga
DESCRIPTION:Stretch toward your fitness goals! Learn basic yoga to improve health and flexibility through deep breathing and controlled stretching. Reduce stress\, get better sleep\, and build muscle stamina as you practice new or previously learned yoga skills. 
URL:https://www.pgparks.com/event_list/yoga-2/2027-04-28
CATEGORIES:Free,May is Fitness Month
ATTACH;FMTTYPE=image/jpeg:https://www.pgparks.com/wp-content/uploads/2026/02/Yoga-2026-600x400-1.jpg
END:VEVENT
END:VCALENDAR