BEGIN:VCALENDAR
VERSION:2.0
PRODID:-//Park and Recreation - Prince Georges County MD - ECPv6.15.18//NONSGML v1.0//EN
CALSCALE:GREGORIAN
METHOD:PUBLISH
X-WR-CALNAME:Park and Recreation - Prince Georges County MD
X-ORIGINAL-URL:https://www.pgparks.com
X-WR-CALDESC:Events for Park and Recreation - Prince Georges County MD
REFRESH-INTERVAL;VALUE=DURATION:PT1H
X-Robots-Tag:noindex
X-PUBLISHED-TTL:PT1H
BEGIN:VTIMEZONE
TZID:America/New_York
BEGIN:DAYLIGHT
TZOFFSETFROM:-0500
TZOFFSETTO:-0400
TZNAME:EDT
DTSTART:20250309T070000
END:DAYLIGHT
BEGIN:STANDARD
TZOFFSETFROM:-0400
TZOFFSETTO:-0500
TZNAME:EST
DTSTART:20251102T060000
END:STANDARD
BEGIN:DAYLIGHT
TZOFFSETFROM:-0500
TZOFFSETTO:-0400
TZNAME:EDT
DTSTART:20260308T070000
END:DAYLIGHT
BEGIN:STANDARD
TZOFFSETFROM:-0400
TZOFFSETTO:-0500
TZNAME:EST
DTSTART:20261101T060000
END:STANDARD
BEGIN:DAYLIGHT
TZOFFSETFROM:-0500
TZOFFSETTO:-0400
TZNAME:EDT
DTSTART:20270314T070000
END:DAYLIGHT
BEGIN:STANDARD
TZOFFSETFROM:-0400
TZOFFSETTO:-0500
TZNAME:EST
DTSTART:20271107T060000
END:STANDARD
END:VTIMEZONE
BEGIN:VEVENT
DTSTART;TZID=America/New_York:20260124T143000
DTEND;TZID=America/New_York:20260124T163000
DTSTAMP:20260425T162622
CREATED:20251216T195926Z
LAST-MODIFIED:20251222T195930Z
UID:10000876-1769265000-1769272200@www.pgparks.com
SUMMARY:Adaptive Tennis Try-It Clinic
DESCRIPTION:Join us for a fun and inclusive day on the courts! We welcome the whole family-as well as all ability and experience levels-to discover the joy of tennis. This event is designed for people with disabilities in partnership with the Junior Tennis Champions Center (JTCC). \n\n\n\nEnjoy adaptive games\, beginner-friendly instruction\, and a supportive community atmosphere as we introduce tennis to everyone—no experience or equipment required! \n\n\n\n \n\n\n\nRegister for this Program
URL:https://www.pgparks.com/event_list/adaptive-tennis-try-it-clinic
LOCATION:Junior Tennis Champions Center\, 5200 Campus Dr\, College Park\, MD\, 20740\, United States
CATEGORIES:Disability Services,Sports,Youth
ATTACH;FMTTYPE=image/gif:https://www.pgparks.com/wp-content/uploads/2025/12/adaptive-tennis-picture-2.gif
END:VEVENT
BEGIN:VEVENT
DTSTART;TZID=America/New_York:20260228T090000
DTEND;TZID=America/New_York:20260228T220000
DTSTAMP:20260425T162622
CREATED:20260204T145147Z
LAST-MODIFIED:20260219T190104Z
UID:10001178-1772269200-1772316000@www.pgparks.com
SUMMARY:The AllStar Cheerleading Championships - Maryland Challenge
DESCRIPTION:The mission of The Allstar Cheerleading Championship is to provide an athlete focused competition experience. Events will provide an opportunity for athletes to showcase their skills and be scored by veteran\, qualified judges to provide scoring feedback and commentary for teams. The athletes will receive custom designed awards and participation gifts awarding their skills and accomplishments. From registration to awards\, the focus is on the athlete.
URL:https://www.pgparks.com/event_list/the-allstar-cheerleading-championships-maryland-challenge
CATEGORIES:Sports
ATTACH;FMTTYPE=image/jpeg:https://www.pgparks.com/wp-content/uploads/2026/02/Maryland-CHallenge-Logo-2026-600x400-1.jpg
END:VEVENT
BEGIN:VEVENT
DTSTART;TZID=America/New_York:20260320T190000
DTEND;TZID=America/New_York:20260320T213000
DTSTAMP:20260425T162622
CREATED:20260107T201535Z
LAST-MODIFIED:20260304T204451Z
UID:10000936-1774033200-1774042200@www.pgparks.com
SUMMARY:Crossover Classic
DESCRIPTION:Teens will compete in a three-on-three basketball tournament in two age brackets. There will be additional fun activities\, such as a dunk contest\, mid-court shot competition\, video games\, food\, and music.     
URL:https://www.pgparks.com/event_list/crossover-classic
CATEGORIES:Fitness,Free,Sports,Teens
ATTACH;FMTTYPE=image/png:https://www.pgparks.com/wp-content/uploads/2026/01/Crossover-Classic-2026-600x400-1.png
END:VEVENT
BEGIN:VEVENT
DTSTART;TZID=America/New_York:20260328T100000
DTEND;TZID=America/New_York:20260328T120000
DTSTAMP:20260425T162622
CREATED:20260304T145344Z
LAST-MODIFIED:20260304T203720Z
UID:10002395-1774692000-1774699200@www.pgparks.com
SUMMARY:Youth Sports Showcase
DESCRIPTION:Whether your child is a first-time participant or looking to explore something new\, this is the perfect way to get active and discover the sports they love. \n\n\n\nLiberty Sports Park \n\n\n\n220 Prince Georges Blvd.  \n\n\n\nUpper Marlboro 20774
URL:https://www.pgparks.com/event_list/youth-sports-showcase
CATEGORIES:Sports,Youth
ATTACH;FMTTYPE=image/jpeg:https://www.pgparks.com/wp-content/uploads/2026/03/Youth-Sport-Showcase-2026-600x400-1.jpg
END:VEVENT
BEGIN:VEVENT
DTSTART;TZID=America/New_York:20260408T183000
DTEND;TZID=America/New_York:20260408T200000
DTSTAMP:20260425T162622
CREATED:20260211T155821Z
LAST-MODIFIED:20260317T144352Z
UID:10001228-1775673000-1775678400@www.pgparks.com
SUMMARY:Pop-Up Paddles
DESCRIPTION:This pop-up pickleball experience is a fun\, social\, and active way to engage in this fast-growing sport. The program offers accessible pickleball courts paired with opportunities to try current paddle gear and equipment in a vibrant\, community-focused atmosphere.
URL:https://www.pgparks.com/event_list/pop-up-paddles/2026-04-08
CATEGORIES:18 and up,Fitness,Free,Sports
ATTACH;FMTTYPE=image/jpeg:https://www.pgparks.com/wp-content/uploads/2026/02/Pop-Up-Paddles-Pickleball-2026-600x400-1.jpg
END:VEVENT
BEGIN:VEVENT
DTSTART;TZID=America/New_York:20260411T100000
DTEND;TZID=America/New_York:20260411T113000
DTSTAMP:20260425T162623
CREATED:20260211T155821Z
LAST-MODIFIED:20260317T144352Z
UID:10001229-1775901600-1775907000@www.pgparks.com
SUMMARY:Pop-Up Paddles
DESCRIPTION:This pop-up pickleball experience is a fun\, social\, and active way to engage in this fast-growing sport. The program offers accessible pickleball courts paired with opportunities to try current paddle gear and equipment in a vibrant\, community-focused atmosphere.
URL:https://www.pgparks.com/event_list/pop-up-paddles/2026-04-11
CATEGORIES:18 and up,Fitness,Free,Sports
ATTACH;FMTTYPE=image/jpeg:https://www.pgparks.com/wp-content/uploads/2026/02/Pop-Up-Paddles-Pickleball-2026-600x400-1.jpg
END:VEVENT
BEGIN:VEVENT
DTSTART;TZID=America/New_York:20260506T120000
DTEND;TZID=America/New_York:20260506T140000
DTSTAMP:20260425T162623
CREATED:20260313T210614Z
LAST-MODIFIED:20260417T171321Z
UID:10002591-1778068800-1778076000@www.pgparks.com
SUMMARY:Free Drop-In Tennis
DESCRIPTION:Join us on Wednesdays in May to enjoy our indoor tennis courts.
URL:https://www.pgparks.com/event_list/free-drop-in-tennis/2026-05-06
CATEGORIES:18 and up,Free,May is Fitness Month,Sports
ATTACH;FMTTYPE=image/jpeg:https://www.pgparks.com/wp-content/uploads/2026/03/Drop-in-Tennis-2026-600x400-1.jpg
END:VEVENT
BEGIN:VEVENT
DTSTART;TZID=America/New_York:20260507T120000
DTEND;TZID=America/New_York:20260507T140000
DTSTAMP:20260425T162623
CREATED:20260313T210815Z
LAST-MODIFIED:20260417T170334Z
UID:10002647-1778155200-1778162400@www.pgparks.com
SUMMARY:Free Drop-In Tennis
DESCRIPTION:Join us on Wednesdays in May to enjoy our indoor tennis courts.
URL:https://www.pgparks.com/event_list/free-drop-in-tennis-2/2026-05-07
CATEGORIES:18 and up,Free,May is Fitness Month,Sports
ATTACH;FMTTYPE=image/jpeg:https://www.pgparks.com/wp-content/uploads/2026/03/Drop-in-Tennis-2026-600x400-1.jpg
END:VEVENT
BEGIN:VEVENT
DTSTART;TZID=America/New_York:20260508T173000
DTEND;TZID=America/New_York:20260508T184500
DTSTAMP:20260425T162623
CREATED:20260313T192336Z
LAST-MODIFIED:20260417T195142Z
UID:10002459-1778261400-1778265900@www.pgparks.com
SUMMARY:Fore Fitness Golf Clinic
DESCRIPTION:Ever wanted to learn how to play golf? Join us for a clinic where you can learn proper techniques\, explore different parts of the game\, and sharpen your swing to stay physically active and enjoy this sport even more! Equipment will be provided for all participants at each location.
URL:https://www.pgparks.com/event_list/fore-fitness-golf-clinic
CATEGORIES:Free,May is Fitness Month,Sports,Teens
ATTACH;FMTTYPE=image/jpeg:https://www.pgparks.com/wp-content/uploads/2026/03/Fore-Fitness-Golf-Clinic-2026-600x400-1.jpg
END:VEVENT
BEGIN:VEVENT
DTSTART;TZID=America/New_York:20260512T180000
DTEND;TZID=America/New_York:20260512T210000
DTSTAMP:20260425T162623
CREATED:20260320T162404Z
LAST-MODIFIED:20260417T151224Z
UID:10003139-1778608800-1778619600@www.pgparks.com
SUMMARY:First Kicks Futsal Clinic
DESCRIPTION:May is National Physical Fitness & Sports Month! Please join us for our First Kicks Futsal Clinic at Glassmanor Community Center.
URL:https://www.pgparks.com/event_list/first-kicks-futsal-clinic
CATEGORIES:Free,May is Fitness Month,Sports,Teens
ATTACH;FMTTYPE=image/jpeg:https://www.pgparks.com/wp-content/uploads/2026/03/First-Kicks-Futsal-Clinic-2026-600x400-1.jpg
END:VEVENT
BEGIN:VEVENT
DTSTART;TZID=America/New_York:20260512T180000
DTEND;TZID=America/New_York:20260512T210000
DTSTAMP:20260425T162623
CREATED:20260320T162533Z
LAST-MODIFIED:20260417T151120Z
UID:10003140-1778608800-1778619600@www.pgparks.com
SUMMARY:First Kicks Futsal Clinic
DESCRIPTION:May is National Physical Fitness & Sports Month! Please join us for our First Kicks Futsal Clinic on at Fletcher Field.
URL:https://www.pgparks.com/event_list/first-kicks-futsal-clinic-2
CATEGORIES:Free,May is Fitness Month,Sports,Teens
ATTACH;FMTTYPE=image/jpeg:https://www.pgparks.com/wp-content/uploads/2026/03/First-Kicks-Futsal-Clinic-2026-600x400-1.jpg
END:VEVENT
BEGIN:VEVENT
DTSTART;TZID=America/New_York:20260513T120000
DTEND;TZID=America/New_York:20260513T140000
DTSTAMP:20260425T162623
CREATED:20260313T210614Z
LAST-MODIFIED:20260417T171321Z
UID:10002592-1778673600-1778680800@www.pgparks.com
SUMMARY:Free Drop-In Tennis
DESCRIPTION:Join us on Wednesdays in May to enjoy our indoor tennis courts.
URL:https://www.pgparks.com/event_list/free-drop-in-tennis/2026-05-13
CATEGORIES:18 and up,Free,May is Fitness Month,Sports
ATTACH;FMTTYPE=image/jpeg:https://www.pgparks.com/wp-content/uploads/2026/03/Drop-in-Tennis-2026-600x400-1.jpg
END:VEVENT
BEGIN:VEVENT
DTSTART;TZID=America/New_York:20260514T120000
DTEND;TZID=America/New_York:20260514T140000
DTSTAMP:20260425T162623
CREATED:20260313T210815Z
LAST-MODIFIED:20260417T170334Z
UID:10002648-1778760000-1778767200@www.pgparks.com
SUMMARY:Free Drop-In Tennis
DESCRIPTION:Join us on Wednesdays in May to enjoy our indoor tennis courts.
URL:https://www.pgparks.com/event_list/free-drop-in-tennis-2/2026-05-14
CATEGORIES:18 and up,Free,May is Fitness Month,Sports
ATTACH;FMTTYPE=image/jpeg:https://www.pgparks.com/wp-content/uploads/2026/03/Drop-in-Tennis-2026-600x400-1.jpg
END:VEVENT
BEGIN:VEVENT
DTSTART;TZID=America/New_York:20260515T173000
DTEND;TZID=America/New_York:20260515T184500
DTSTAMP:20260425T162623
CREATED:20260313T192730Z
LAST-MODIFIED:20260417T195913Z
UID:10002460-1778866200-1778870700@www.pgparks.com
SUMMARY:Fore Fitness Golf Clinic
DESCRIPTION:Ever wanted to learn how to play golf? Join us for a clinic where you can learn proper techniques\, explore different parts of the game\, and sharpen your swing to stay physically active and enjoy this sport even more! Equipment will be provided for all participants at each location.
URL:https://www.pgparks.com/event_list/fore-fitness-golf-clinic-2
CATEGORIES:Free,May is Fitness Month,Sports,Teens
ATTACH;FMTTYPE=image/jpeg:https://www.pgparks.com/wp-content/uploads/2026/03/Fore-Fitness-Golf-Clinic-2026-600x400-1.jpg
END:VEVENT
BEGIN:VEVENT
DTSTART;TZID=America/New_York:20260515T180000
DTEND;TZID=America/New_York:20260515T220000
DTSTAMP:20260425T162623
CREATED:20260107T203329Z
LAST-MODIFIED:20260417T145422Z
UID:10000938-1778868000-1778882400@www.pgparks.com
SUMMARY:Friday Fun Day Teen Competition
DESCRIPTION:Teens will compete in a wide variety of athletic challenges and enjoy creative and other recreational activities. Whether teens choose to compete\, create\, or simply hang out with friends\, there is something for everyone.
URL:https://www.pgparks.com/event_list/friday-fun-day-teen-competition
CATEGORIES:Free,May is Fitness Month,Sports,Teens
ATTACH;FMTTYPE=image/png:https://www.pgparks.com/wp-content/uploads/2026/01/Friday-Fun-Day-Teen-Competition-2026-600x400-1.png
END:VEVENT
BEGIN:VEVENT
DTSTART;TZID=America/New_York:20260516T100000
DTEND;TZID=America/New_York:20260516T120000
DTSTAMP:20260425T162623
CREATED:20260313T192014Z
LAST-MODIFIED:20260417T144755Z
UID:10002458-1778925600-1778932800@www.pgparks.com
SUMMARY:Flag Football Clinic
DESCRIPTION:May is National Physical Fitness & Sports Month! Please join us for our Flag Football Clinic on May 16\, 2026\, at Woodmore Turf Field from 10 am to 12 noon.
URL:https://www.pgparks.com/event_list/flag-football-clinic
CATEGORIES:Free,May is Fitness Month,Sports,Youth
ATTACH;FMTTYPE=image/jpeg:https://www.pgparks.com/wp-content/uploads/2026/03/Flag-Football-Clinic-2026-600x400-1.jpg
END:VEVENT
BEGIN:VEVENT
DTSTART;TZID=America/New_York:20260520T120000
DTEND;TZID=America/New_York:20260520T140000
DTSTAMP:20260425T162623
CREATED:20260313T210614Z
LAST-MODIFIED:20260417T171321Z
UID:10002593-1779278400-1779285600@www.pgparks.com
SUMMARY:Free Drop-In Tennis
DESCRIPTION:Join us on Wednesdays in May to enjoy our indoor tennis courts.
URL:https://www.pgparks.com/event_list/free-drop-in-tennis/2026-05-20
CATEGORIES:18 and up,Free,May is Fitness Month,Sports
ATTACH;FMTTYPE=image/jpeg:https://www.pgparks.com/wp-content/uploads/2026/03/Drop-in-Tennis-2026-600x400-1.jpg
END:VEVENT
BEGIN:VEVENT
DTSTART;TZID=America/New_York:20260521T120000
DTEND;TZID=America/New_York:20260521T140000
DTSTAMP:20260425T162623
CREATED:20260313T210815Z
LAST-MODIFIED:20260417T170334Z
UID:10002649-1779364800-1779372000@www.pgparks.com
SUMMARY:Free Drop-In Tennis
DESCRIPTION:Join us on Wednesdays in May to enjoy our indoor tennis courts.
URL:https://www.pgparks.com/event_list/free-drop-in-tennis-2/2026-05-21
CATEGORIES:18 and up,Free,May is Fitness Month,Sports
ATTACH;FMTTYPE=image/jpeg:https://www.pgparks.com/wp-content/uploads/2026/03/Drop-in-Tennis-2026-600x400-1.jpg
END:VEVENT
BEGIN:VEVENT
DTSTART;TZID=America/New_York:20260522T173000
DTEND;TZID=America/New_York:20260522T184500
DTSTAMP:20260425T162623
CREATED:20260313T192803Z
LAST-MODIFIED:20260417T195737Z
UID:10002461-1779471000-1779475500@www.pgparks.com
SUMMARY:Fore Fitness Golf Clinic
DESCRIPTION:Ever wanted to learn how to play golf? Join us for a clinic where you can learn proper techniques\, explore different parts of the game\, and sharpen your swing to stay physically active and enjoy this sport even more! Equipment will be provided for all participants at each location.
URL:https://www.pgparks.com/event_list/fore-fitness-golf-clinic-3
CATEGORIES:Free,May is Fitness Month,Sports,Teens
ATTACH;FMTTYPE=image/jpeg:https://www.pgparks.com/wp-content/uploads/2026/03/Fore-Fitness-Golf-Clinic-2026-600x400-1.jpg
END:VEVENT
BEGIN:VEVENT
DTSTART;TZID=America/New_York:20260527T120000
DTEND;TZID=America/New_York:20260527T140000
DTSTAMP:20260425T162623
CREATED:20260313T210614Z
LAST-MODIFIED:20260417T171321Z
UID:10002594-1779883200-1779890400@www.pgparks.com
SUMMARY:Free Drop-In Tennis
DESCRIPTION:Join us on Wednesdays in May to enjoy our indoor tennis courts.
URL:https://www.pgparks.com/event_list/free-drop-in-tennis/2026-05-27
CATEGORIES:18 and up,Free,May is Fitness Month,Sports
ATTACH;FMTTYPE=image/jpeg:https://www.pgparks.com/wp-content/uploads/2026/03/Drop-in-Tennis-2026-600x400-1.jpg
END:VEVENT
BEGIN:VEVENT
DTSTART;TZID=America/New_York:20260528T120000
DTEND;TZID=America/New_York:20260528T140000
DTSTAMP:20260425T162623
CREATED:20260313T210815Z
LAST-MODIFIED:20260417T170334Z
UID:10002650-1779969600-1779976800@www.pgparks.com
SUMMARY:Free Drop-In Tennis
DESCRIPTION:Join us on Wednesdays in May to enjoy our indoor tennis courts.
URL:https://www.pgparks.com/event_list/free-drop-in-tennis-2/2026-05-28
CATEGORIES:18 and up,Free,May is Fitness Month,Sports
ATTACH;FMTTYPE=image/jpeg:https://www.pgparks.com/wp-content/uploads/2026/03/Drop-in-Tennis-2026-600x400-1.jpg
END:VEVENT
BEGIN:VEVENT
DTSTART;TZID=America/New_York:20260529T173000
DTEND;TZID=America/New_York:20260529T184500
DTSTAMP:20260425T162623
CREATED:20260313T192830Z
LAST-MODIFIED:20260417T195259Z
UID:10002462-1780075800-1780080300@www.pgparks.com
SUMMARY:Fore Fitness Golf Clinic
DESCRIPTION:Ever wanted to learn how to play golf? Join us for a clinic where you can learn proper techniques\, explore different parts of the game\, and sharpen your swing to stay physically active and enjoy this sport even more! Equipment will be provided for all participants at each location.
URL:https://www.pgparks.com/event_list/fore-fitness-golf-clinic-4
CATEGORIES:Free,May is Fitness Month,Sports,Teens
ATTACH;FMTTYPE=image/jpeg:https://www.pgparks.com/wp-content/uploads/2026/03/Fore-Fitness-Golf-Clinic-2026-600x400-1.jpg
END:VEVENT
END:VCALENDAR